Package: Single.mTEC.Transcriptomes Version: 1.39.0 Command: /home/biocbuild/bbs-3.23-bioc/R/bin/R CMD build --keep-empty-dirs --no-resave-data Single.mTEC.Transcriptomes StartedAt: 2025-11-11 11:42:52 -0500 (Tue, 11 Nov 2025) EndedAt: 2025-11-11 11:48:56 -0500 (Tue, 11 Nov 2025) EllapsedTime: 363.1 seconds RetCode: 0 Status: OK PackageFile: Single.mTEC.Transcriptomes_1.39.0.tar.gz PackageFileSize: 904.6 MiB