Package: SVM2CRMdata Version: 1.43.0 Command: /home/biocbuild/bbs-3.23-bioc/R/bin/R CMD check --install=check:SVM2CRMdata.install-out.txt --library=/home/biocbuild/bbs-3.23-bioc/R/site-library --timings SVM2CRMdata_1.43.0.tar.gz StartedAt: 2025-11-13 13:09:57 -0500 (Thu, 13 Nov 2025) EndedAt: 2025-11-13 13:11:20 -0500 (Thu, 13 Nov 2025) EllapsedTime: 83.3 seconds RetCode: 0 Status: WARNINGS CheckDir: SVM2CRMdata.Rcheck Warnings: 1