Package: STexampleData Version: 1.19.0 Command: /home/biocbuild/bbs-3.23-bioc/R/bin/R CMD check --install=check:STexampleData.install-out.txt --library=/home/biocbuild/bbs-3.23-bioc/R/site-library --timings STexampleData_1.19.0.tar.gz StartedAt: 2025-11-11 13:03:52 -0500 (Tue, 11 Nov 2025) EndedAt: 2025-11-11 13:09:01 -0500 (Tue, 11 Nov 2025) EllapsedTime: 308.5 seconds RetCode: 0 Status: OK CheckDir: STexampleData.Rcheck Warnings: 0