Package: STexampleData Version: 1.19.0 Command: /home/biocbuild/bbs-3.23-bioc/R/bin/R CMD build --keep-empty-dirs --no-resave-data STexampleData StartedAt: 2025-11-11 11:43:44 -0500 (Tue, 11 Nov 2025) EndedAt: 2025-11-11 11:45:25 -0500 (Tue, 11 Nov 2025) EllapsedTime: 100.5 seconds RetCode: 0 Status: OK PackageFile: STexampleData_1.19.0.tar.gz PackageFileSize: 611.3 KiB