Package: SNPhoodData Version: 1.41.0 Command: /home/biocbuild/bbs-3.23-bioc/R/bin/R CMD check --install=check:SNPhoodData.install-out.txt --library=/home/biocbuild/bbs-3.23-bioc/R/site-library --timings SNPhoodData_1.41.0.tar.gz StartedAt: 2025-11-11 13:02:36 -0500 (Tue, 11 Nov 2025) EndedAt: 2025-11-11 13:03:02 -0500 (Tue, 11 Nov 2025) EllapsedTime: 25.6 seconds RetCode: 0 Status: OK CheckDir: SNPhoodData.Rcheck Warnings: 0