Package: SCLCBam Version: 1.43.0 Command: /home/biocbuild/bbs-3.23-bioc/R/bin/R CMD check --install=check:SCLCBam.install-out.txt --library=/home/biocbuild/bbs-3.23-bioc/R/site-library --timings SCLCBam_1.43.0.tar.gz StartedAt: 2025-11-11 12:59:02 -0500 (Tue, 11 Nov 2025) EndedAt: 2025-11-11 12:59:20 -0500 (Tue, 11 Nov 2025) EllapsedTime: 18.0 seconds RetCode: 0 Status: OK CheckDir: SCLCBam.Rcheck Warnings: 0