Package: RnaSeqSampleSizeData Version: 1.43.0 Command: /home/biocbuild/bbs-3.23-bioc/R/bin/R CMD check --install=check:RnaSeqSampleSizeData.install-out.txt --library=/home/biocbuild/bbs-3.23-bioc/R/site-library --timings RnaSeqSampleSizeData_1.43.0.tar.gz StartedAt: 2025-11-11 12:52:47 -0500 (Tue, 11 Nov 2025) EndedAt: 2025-11-11 12:53:16 -0500 (Tue, 11 Nov 2025) EllapsedTime: 28.3 seconds RetCode: 0 Status: OK CheckDir: RnaSeqSampleSizeData.Rcheck Warnings: 0