Package: RnaSeqSampleSizeData Version: 1.43.0 Command: /home/biocbuild/bbs-3.23-bioc/R/bin/R CMD build --keep-empty-dirs --no-resave-data RnaSeqSampleSizeData StartedAt: 2025-11-13 11:39:09 -0500 (Thu, 13 Nov 2025) EndedAt: 2025-11-13 11:39:15 -0500 (Thu, 13 Nov 2025) EllapsedTime: 6.0 seconds RetCode: 0 Status: OK PackageFile: RnaSeqSampleSizeData_1.43.0.tar.gz PackageFileSize: 6.036 MiB