Package: RnaSeqSampleSizeData Version: 1.43.0 Maintainer: Shilin Zhao MaintainerEmail: zhaoshilin at gmail.com git_url: https://git.bioconductor.org/packages/RnaSeqSampleSizeData git_branch: devel git_last_commit: 6fd1997 git_last_commit_date: 2025-10-29 09:55:59 -0500 (Wed, 29 Oct 2025)