Package: RnBeads.mm9 Version: 1.43.0 Command: /home/biocbuild/bbs-3.23-bioc/R/bin/R CMD build --keep-empty-dirs --no-resave-data RnBeads.mm9 StartedAt: 2025-11-11 11:39:08 -0500 (Tue, 11 Nov 2025) EndedAt: 2025-11-11 11:39:15 -0500 (Tue, 11 Nov 2025) EllapsedTime: 7.0 seconds RetCode: 0 Status: OK PackageFile: RnBeads.mm9_1.43.0.tar.gz PackageFileSize: 94.41 MiB