Package: RnBeads.mm10 Version: 2.19.0 Command: /home/biocbuild/bbs-3.23-bioc/R/bin/R CMD INSTALL RnBeads.mm10 StartedAt: 2025-11-11 11:02:40 -0500 (Tue, 11 Nov 2025) EndedAt: 2025-11-11 11:02:47 -0500 (Tue, 11 Nov 2025) EllapsedTime: 7.7 seconds RetCode: 0 Status: OK