Package: RnBeads.mm10 Version: 2.19.0 Command: /home/biocbuild/bbs-3.23-bioc/R/bin/R CMD check --install=check:RnBeads.mm10.install-out.txt --library=/home/biocbuild/bbs-3.23-bioc/R/site-library --timings RnBeads.mm10_2.19.0.tar.gz StartedAt: 2025-11-13 12:59:10 -0500 (Thu, 13 Nov 2025) EndedAt: 2025-11-13 13:01:49 -0500 (Thu, 13 Nov 2025) EllapsedTime: 158.9 seconds RetCode: 0 Status: OK CheckDir: RnBeads.mm10.Rcheck Warnings: 0