Package: RnBeads.mm10 Version: 2.19.0 Command: /home/biocbuild/bbs-3.23-bioc/R/bin/R CMD build --keep-empty-dirs --no-resave-data RnBeads.mm10 StartedAt: 2025-11-11 11:39:07 -0500 (Tue, 11 Nov 2025) EndedAt: 2025-11-11 11:39:18 -0500 (Tue, 11 Nov 2025) EllapsedTime: 11.0 seconds RetCode: 0 Status: OK PackageFile: RnBeads.mm10_2.19.0.tar.gz PackageFileSize: 149.1 MiB