Package: RnBeads.hg19 Version: 1.43.0 Command: /home/biocbuild/bbs-3.23-bioc/R/bin/R CMD INSTALL RnBeads.hg19 StartedAt: 2025-11-13 10:58:13 -0500 (Thu, 13 Nov 2025) EndedAt: 2025-11-13 10:58:20 -0500 (Thu, 13 Nov 2025) EllapsedTime: 7.1 seconds RetCode: 0 Status: OK