Package: RnBeads.hg19 Version: 1.43.0 Command: /home/biocbuild/bbs-3.23-bioc/R/bin/R CMD build --keep-empty-dirs --no-resave-data RnBeads.hg19 StartedAt: 2025-11-13 11:39:15 -0500 (Thu, 13 Nov 2025) EndedAt: 2025-11-13 11:39:22 -0500 (Thu, 13 Nov 2025) EllapsedTime: 7.0 seconds RetCode: 0 Status: OK PackageFile: RnBeads.hg19_1.43.0.tar.gz PackageFileSize: 100.1 MiB