Package: RforProteomics Version: 1.49.0 Command: /home/biocbuild/bbs-3.23-bioc/R/bin/R CMD check --install=check:RforProteomics.install-out.txt --library=/home/biocbuild/bbs-3.23-bioc/R/site-library --timings RforProteomics_1.49.0.tar.gz StartedAt: 2025-11-11 12:51:19 -0500 (Tue, 11 Nov 2025) EndedAt: 2025-11-11 13:01:49 -0500 (Tue, 11 Nov 2025) EllapsedTime: 629.8 seconds RetCode: 0 Status: WARNINGS CheckDir: RforProteomics.Rcheck Warnings: 1