Package: RcisTarget.hg19.motifDBs.cisbpOnly.500bp Version: 1.31.0 Command: /home/biocbuild/bbs-3.23-bioc/R/bin/R CMD INSTALL RcisTarget.hg19.motifDBs.cisbpOnly.500bp StartedAt: 2025-11-11 10:55:59 -0500 (Tue, 11 Nov 2025) EndedAt: 2025-11-11 10:56:08 -0500 (Tue, 11 Nov 2025) EllapsedTime: 9.2 seconds RetCode: 0 Status: OK