Package: RcisTarget.hg19.motifDBs.cisbpOnly.500bp Version: 1.31.0 Command: /home/biocbuild/bbs-3.23-bioc/R/bin/R CMD check --install=check:RcisTarget.hg19.motifDBs.cisbpOnly.500bp.install-out.txt --library=/home/biocbuild/bbs-3.23-bioc/R/site-library --timings RcisTarget.hg19.motifDBs.cisbpOnly.500bp_1.31.0.tar.gz StartedAt: 2025-11-11 12:50:41 -0500 (Tue, 11 Nov 2025) EndedAt: 2025-11-11 12:51:19 -0500 (Tue, 11 Nov 2025) EllapsedTime: 37.6 seconds RetCode: 0 Status: WARNINGS CheckDir: RcisTarget.hg19.motifDBs.cisbpOnly.500bp.Rcheck Warnings: 1