Package: RUVnormalizeData Version: 1.31.0 Command: /home/biocbuild/bbs-3.23-bioc/R/bin/R CMD check --install=check:RUVnormalizeData.install-out.txt --library=/home/biocbuild/bbs-3.23-bioc/R/site-library --timings RUVnormalizeData_1.31.0.tar.gz StartedAt: 2025-11-13 13:02:42 -0500 (Thu, 13 Nov 2025) EndedAt: 2025-11-13 13:03:05 -0500 (Thu, 13 Nov 2025) EllapsedTime: 23.6 seconds RetCode: 0 Status: OK CheckDir: RUVnormalizeData.Rcheck Warnings: 0