Package: RTCGA.mutations Version: 20151101.41.0 Command: /home/biocbuild/bbs-3.23-bioc/R/bin/R CMD INSTALL RTCGA.mutations StartedAt: 2025-11-11 11:04:17 -0500 (Tue, 11 Nov 2025) EndedAt: 2025-11-11 11:07:22 -0500 (Tue, 11 Nov 2025) EllapsedTime: 184.6 seconds RetCode: 0 Status: OK