Package: RTCGA.miRNASeq Version: 1.39.0 Command: /home/biocbuild/bbs-3.23-bioc/R/bin/R CMD build --keep-empty-dirs --no-resave-data RTCGA.miRNASeq StartedAt: 2025-11-13 11:40:10 -0500 (Thu, 13 Nov 2025) EndedAt: 2025-11-13 11:42:04 -0500 (Thu, 13 Nov 2025) EllapsedTime: 114.0 seconds RetCode: 0 Status: OK PackageFile: RTCGA.miRNASeq_1.39.0.tar.gz PackageFileSize: 45.24 MiB