Package: RTCGA.methylation Version: 1.39.0 Command: /home/biocbuild/bbs-3.23-bioc/R/bin/R CMD INSTALL RTCGA.methylation StartedAt: 2025-11-11 11:04:07 -0500 (Tue, 11 Nov 2025) EndedAt: 2025-11-11 11:06:38 -0500 (Tue, 11 Nov 2025) EllapsedTime: 151.2 seconds RetCode: 0 Status: OK