Package: RTCGA.mRNA Version: 1.39.0 Command: /home/biocbuild/bbs-3.23-bioc/R/bin/R CMD build --keep-empty-dirs --no-resave-data RTCGA.mRNA StartedAt: 2025-11-11 11:39:42 -0500 (Tue, 11 Nov 2025) EndedAt: 2025-11-11 11:40:23 -0500 (Tue, 11 Nov 2025) EllapsedTime: 40.8 seconds RetCode: 0 Status: OK PackageFile: RTCGA.mRNA_1.39.0.tar.gz PackageFileSize: 84.98 MiB