Package: RTCGA.clinical Version: 20151101.41.0 Command: /home/biocbuild/bbs-3.23-bioc/R/bin/R CMD INSTALL RTCGA.clinical StartedAt: 2025-11-13 11:04:18 -0500 (Thu, 13 Nov 2025) EndedAt: 2025-11-13 11:04:59 -0500 (Thu, 13 Nov 2025) EllapsedTime: 41.8 seconds RetCode: 0 Status: OK