Package: RTCGA.clinical Version: 20151101.41.0 Command: /home/biocbuild/bbs-3.23-bioc/R/bin/R CMD build --keep-empty-dirs --no-resave-data RTCGA.clinical StartedAt: 2025-11-11 11:39:18 -0500 (Tue, 11 Nov 2025) EndedAt: 2025-11-11 11:40:04 -0500 (Tue, 11 Nov 2025) EllapsedTime: 46.1 seconds RetCode: 0 Status: OK PackageFile: RTCGA.clinical_20151101.41.0.tar.gz PackageFileSize: 13.97 MiB