Package: RTCGA.RPPA Version: 1.39.0 Command: /home/biocbuild/bbs-3.23-bioc/R/bin/R CMD INSTALL RTCGA.RPPA StartedAt: 2025-11-11 11:04:19 -0500 (Tue, 11 Nov 2025) EndedAt: 2025-11-11 11:04:32 -0500 (Tue, 11 Nov 2025) EllapsedTime: 12.3 seconds RetCode: 0 Status: OK