Package: RTCGA.RPPA Version: 1.39.0 Command: /home/biocbuild/bbs-3.23-bioc/R/bin/R CMD check --install=check:RTCGA.RPPA.install-out.txt --library=/home/biocbuild/bbs-3.23-bioc/R/site-library --timings RTCGA.RPPA_1.39.0.tar.gz StartedAt: 2025-11-11 12:57:28 -0500 (Tue, 11 Nov 2025) EndedAt: 2025-11-11 12:58:41 -0500 (Tue, 11 Nov 2025) EllapsedTime: 73.3 seconds RetCode: 0 Status: WARNINGS CheckDir: RTCGA.RPPA.Rcheck Warnings: 1