Package: RTCGA.CNV Version: 1.39.0 Command: /home/biocbuild/bbs-3.23-bioc/R/bin/R CMD INSTALL RTCGA.CNV StartedAt: 2025-11-11 11:04:12 -0500 (Tue, 11 Nov 2025) EndedAt: 2025-11-11 11:04:30 -0500 (Tue, 11 Nov 2025) EllapsedTime: 17.3 seconds RetCode: 0 Status: OK