Package: RRBSdata Version: 1.31.0 Command: /home/biocbuild/bbs-3.23-bioc/R/bin/R CMD check --install=check:RRBSdata.install-out.txt --library=/home/biocbuild/bbs-3.23-bioc/R/site-library --timings RRBSdata_1.31.0.tar.gz StartedAt: 2025-11-13 13:00:51 -0500 (Thu, 13 Nov 2025) EndedAt: 2025-11-13 13:04:44 -0500 (Thu, 13 Nov 2025) EllapsedTime: 233.0 seconds RetCode: 0 Status: OK CheckDir: RRBSdata.Rcheck Warnings: 0