Package: RNAseqData.HNRNPC.bam.chr14 Version: 0.49.0 Command: /home/biocbuild/bbs-3.23-bioc/R/bin/R CMD INSTALL RNAseqData.HNRNPC.bam.chr14 StartedAt: 2025-11-11 10:55:44 -0500 (Tue, 11 Nov 2025) EndedAt: 2025-11-11 10:55:48 -0500 (Tue, 11 Nov 2025) EllapsedTime: 3.6 seconds RetCode: 0 Status: OK