Package: RNAseqData.HNRNPC.bam.chr14 Version: 0.49.0 Command: /home/biocbuild/bbs-3.23-bioc/R/bin/R CMD check --install=check:RNAseqData.HNRNPC.bam.chr14.install-out.txt --library=/home/biocbuild/bbs-3.23-bioc/R/site-library --timings RNAseqData.HNRNPC.bam.chr14_0.49.0.tar.gz StartedAt: 2025-11-11 12:52:40 -0500 (Tue, 11 Nov 2025) EndedAt: 2025-11-11 12:53:31 -0500 (Tue, 11 Nov 2025) EllapsedTime: 51.3 seconds RetCode: 0 Status: OK CheckDir: RNAseqData.HNRNPC.bam.chr14.Rcheck Warnings: 0