Package: RITANdata Version: 1.35.0 Command: /home/biocbuild/bbs-3.23-bioc/R/bin/R CMD INSTALL RITANdata StartedAt: 2025-11-11 10:55:26 -0500 (Tue, 11 Nov 2025) EndedAt: 2025-11-11 10:56:02 -0500 (Tue, 11 Nov 2025) EllapsedTime: 35.6 seconds RetCode: 0 Status: OK