Package: RITANdata Version: 1.35.0 Command: /home/biocbuild/bbs-3.23-bioc/R/bin/R CMD check --install=check:RITANdata.install-out.txt --library=/home/biocbuild/bbs-3.23-bioc/R/site-library --timings RITANdata_1.35.0.tar.gz StartedAt: 2025-11-13 12:57:50 -0500 (Thu, 13 Nov 2025) EndedAt: 2025-11-13 12:58:12 -0500 (Thu, 13 Nov 2025) EllapsedTime: 21.6 seconds RetCode: 0 Status: OK CheckDir: RITANdata.Rcheck Warnings: 0