Package: RITANdata Version: 1.35.0 Command: /home/biocbuild/bbs-3.23-bioc/R/bin/R CMD build --keep-empty-dirs --no-resave-data RITANdata StartedAt: 2025-11-13 11:38:30 -0500 (Thu, 13 Nov 2025) EndedAt: 2025-11-13 11:39:08 -0500 (Thu, 13 Nov 2025) EllapsedTime: 37.9 seconds RetCode: 0 Status: OK PackageFile: RITANdata_1.35.0.tar.gz PackageFileSize: 7.415 MiB