Package: QUBICdata Version: 1.39.0 Maintainer: Yu Zhang MaintainerEmail: zy26 at jlu.edu.cn git_url: https://git.bioconductor.org/packages/QUBICdata git_branch: devel git_last_commit: 27c963f git_last_commit_date: 2025-10-29 09:58:18 -0500 (Wed, 29 Oct 2025)