Package: QDNAseq.hg19 Version: 1.41.0 Command: /home/biocbuild/bbs-3.23-bioc/R/bin/R CMD INSTALL QDNAseq.hg19 StartedAt: 2025-11-11 11:02:30 -0500 (Tue, 11 Nov 2025) EndedAt: 2025-11-11 11:02:43 -0500 (Tue, 11 Nov 2025) EllapsedTime: 12.4 seconds RetCode: 0 Status: OK