Package: PtH2O2lipids Version: 1.37.0 Command: /home/biocbuild/bbs-3.23-bioc/R/bin/R CMD INSTALL PtH2O2lipids StartedAt: 2025-11-11 11:02:55 -0500 (Tue, 11 Nov 2025) EndedAt: 2025-11-11 11:03:44 -0500 (Tue, 11 Nov 2025) EllapsedTime: 48.7 seconds RetCode: 0 Status: OK