Package: PtH2O2lipids Version: 1.37.0 Command: /home/biocbuild/bbs-3.23-bioc/R/bin/R CMD check --install=check:PtH2O2lipids.install-out.txt --library=/home/biocbuild/bbs-3.23-bioc/R/site-library --timings PtH2O2lipids_1.37.0.tar.gz StartedAt: 2025-11-13 12:55:08 -0500 (Thu, 13 Nov 2025) EndedAt: 2025-11-13 13:01:22 -0500 (Thu, 13 Nov 2025) EllapsedTime: 374.2 seconds RetCode: 0 Status: WARNINGS CheckDir: PtH2O2lipids.Rcheck Warnings: 1