Package: ProteinGymR Version: 1.5.0 Command: /home/biocbuild/bbs-3.23-bioc/R/bin/R CMD check --install=check:ProteinGymR.install-out.txt --library=/home/biocbuild/bbs-3.23-bioc/R/site-library --timings ProteinGymR_1.5.0.tar.gz StartedAt: 2025-11-11 12:49:36 -0500 (Tue, 11 Nov 2025) EndedAt: 2025-11-11 13:03:26 -0500 (Tue, 11 Nov 2025) EllapsedTime: 829.9 seconds RetCode: 0 Status: OK CheckDir: ProteinGymR.Rcheck Warnings: 0