Package: ProData Version: 1.49.0 Command: /home/biocbuild/bbs-3.23-bioc/R/bin/R CMD INSTALL ProData StartedAt: 2025-11-11 10:56:10 -0500 (Tue, 11 Nov 2025) EndedAt: 2025-11-11 10:56:12 -0500 (Tue, 11 Nov 2025) EllapsedTime: 2.2 seconds RetCode: 0 Status: OK