Package: PhyloProfileData Version: 1.25.0 Command: /home/biocbuild/bbs-3.23-bioc/R/bin/R CMD check --install=check:PhyloProfileData.install-out.txt --library=/home/biocbuild/bbs-3.23-bioc/R/site-library --timings PhyloProfileData_1.25.0.tar.gz StartedAt: 2025-11-11 12:48:09 -0500 (Tue, 11 Nov 2025) EndedAt: 2025-11-11 12:49:53 -0500 (Tue, 11 Nov 2025) EllapsedTime: 103.8 seconds RetCode: 0 Status: OK CheckDir: PhyloProfileData.Rcheck Warnings: 0