Package: PepsNMRData Version: 1.29.0 Command: /home/biocbuild/bbs-3.23-bioc/R/bin/R CMD check --install=check:PepsNMRData.install-out.txt --library=/home/biocbuild/bbs-3.23-bioc/R/site-library --timings PepsNMRData_1.29.0.tar.gz StartedAt: 2025-11-11 12:48:06 -0500 (Tue, 11 Nov 2025) EndedAt: 2025-11-11 12:48:31 -0500 (Tue, 11 Nov 2025) EllapsedTime: 25.6 seconds RetCode: 0 Status: WARNINGS CheckDir: PepsNMRData.Rcheck Warnings: 1