Package: PWMEnrich.Mmusculus.background Version: 4.45.0 Command: /home/biocbuild/bbs-3.23-bioc/R/bin/R CMD INSTALL PWMEnrich.Mmusculus.background StartedAt: 2025-11-11 10:56:35 -0500 (Tue, 11 Nov 2025) EndedAt: 2025-11-11 10:56:42 -0500 (Tue, 11 Nov 2025) EllapsedTime: 7.0 seconds RetCode: 0 Status: OK