Package: PWMEnrich.Mmusculus.background Version: 4.45.0 Command: /home/biocbuild/bbs-3.23-bioc/R/bin/R CMD check --install=check:PWMEnrich.Mmusculus.background.install-out.txt --library=/home/biocbuild/bbs-3.23-bioc/R/site-library --timings PWMEnrich.Mmusculus.background_4.45.0.tar.gz StartedAt: 2025-11-11 12:49:57 -0500 (Tue, 11 Nov 2025) EndedAt: 2025-11-11 12:50:32 -0500 (Tue, 11 Nov 2025) EllapsedTime: 35.9 seconds RetCode: 0 Status: OK CheckDir: PWMEnrich.Mmusculus.background.Rcheck Warnings: 0