Package: PWMEnrich.Mmusculus.background Version: 4.45.0 Command: /home/biocbuild/bbs-3.23-bioc/R/bin/R CMD build --keep-empty-dirs --no-resave-data PWMEnrich.Mmusculus.background StartedAt: 2025-11-11 11:37:19 -0500 (Tue, 11 Nov 2025) EndedAt: 2025-11-11 11:37:21 -0500 (Tue, 11 Nov 2025) EllapsedTime: 2.0 seconds RetCode: 0 Status: OK PackageFile: PWMEnrich.Mmusculus.background_4.45.0.tar.gz PackageFileSize: 10.34 MiB