Package: PWMEnrich.Hsapiens.background Version: 4.45.0 Command: /home/biocbuild/bbs-3.23-bioc/R/bin/R CMD INSTALL PWMEnrich.Hsapiens.background StartedAt: 2025-11-13 10:57:36 -0500 (Thu, 13 Nov 2025) EndedAt: 2025-11-13 10:57:42 -0500 (Thu, 13 Nov 2025) EllapsedTime: 5.7 seconds RetCode: 0 Status: OK