Package: PWMEnrich.Dmelanogaster.background Version: 4.45.0 Command: /home/biocbuild/bbs-3.23-bioc/R/bin/R CMD build --keep-empty-dirs --no-resave-data PWMEnrich.Dmelanogaster.background StartedAt: 2025-11-11 11:37:15 -0500 (Tue, 11 Nov 2025) EndedAt: 2025-11-11 11:37:16 -0500 (Tue, 11 Nov 2025) EllapsedTime: 1.0 seconds RetCode: 0 Status: OK PackageFile: PWMEnrich.Dmelanogaster.background_4.45.0.tar.gz PackageFileSize: 6.539 MiB