Package: PREDAsampledata Version: 0.51.0 Command: /home/biocbuild/bbs-3.23-bioc/R/bin/R CMD INSTALL PREDAsampledata StartedAt: 2025-11-11 10:57:31 -0500 (Tue, 11 Nov 2025) EndedAt: 2025-11-11 10:57:55 -0500 (Tue, 11 Nov 2025) EllapsedTime: 24.9 seconds RetCode: 0 Status: OK