Package: PREDAsampledata Version: 0.51.0 Command: /home/biocbuild/bbs-3.23-bioc/R/bin/R CMD check --install=check:PREDAsampledata.install-out.txt --library=/home/biocbuild/bbs-3.23-bioc/R/site-library --timings PREDAsampledata_0.51.0.tar.gz StartedAt: 2025-11-20 13:00:08 -0500 (Thu, 20 Nov 2025) EndedAt: 2025-11-20 13:02:01 -0500 (Thu, 20 Nov 2025) EllapsedTime: 113.0 seconds RetCode: 0 Status: OK CheckDir: PREDAsampledata.Rcheck Warnings: 0