Package: PREDAsampledata Version: 0.51.0 Command: /home/biocbuild/bbs-3.23-bioc/R/bin/R CMD build --keep-empty-dirs --no-resave-data PREDAsampledata StartedAt: 2025-11-11 11:36:14 -0500 (Tue, 11 Nov 2025) EndedAt: 2025-11-11 11:36:35 -0500 (Tue, 11 Nov 2025) EllapsedTime: 20.9 seconds RetCode: 0 Status: OK PackageFile: PREDAsampledata_0.51.0.tar.gz PackageFileSize: 66.79 MiB